BEGIN:VCALENDAR
VERSION:2.0
PRODID:-// - ECPv6.15.20//NONSGML v1.0//EN
CALSCALE:GREGORIAN
METHOD:PUBLISH
X-ORIGINAL-URL:https://henriqueconstancia.com/pt
X-WR-CALDESC:Eventos para 
REFRESH-INTERVAL;VALUE=DURATION:PT1H
X-Robots-Tag:noindex
X-PUBLISHED-TTL:PT1H
BEGIN:VTIMEZONE
TZID:UTC
BEGIN:STANDARD
TZOFFSETFROM:+0000
TZOFFSETTO:+0000
TZNAME:UTC
DTSTART:20240101T000000
END:STANDARD
END:VTIMEZONE
BEGIN:VEVENT
DTSTART;TZID=UTC:20250321T213000
DTEND;TZID=UTC:20250321T223000
DTSTAMP:20260424T223624
CREATED:20250307T230210Z
LAST-MODIFIED:20250611T200914Z
UID:620-1742592600-1742596200@henriqueconstancia.com
SUMMARY:Orquestra Filarmonia das Beiras
DESCRIPTION:Paisagens\nCultura perto de si! Concertos nas Freguesias \n Obras de Tchaikovski\, Honegger\, Wagner e Hayan \n| Maestro  Henrique Constância \nApostando na promoção da cultura por todo o Município\, como tem sido habitual nos últimos anos\, a Câmara Municipal de Aveiro em conjunto com a Orquestra das Beiras promove a iniciativa Cultura perto de Si – Concertos nas Freguesias\, dinamizando nas Freguesias de Eirol\, Nossa Sra. de Fátima e São Jacinto\, um concerto itinerante com um programa onde serão interpretadas obras de Tchaikovski\, Honegger\, Wagner e Haydn\, sob a direção do maestro convidado Henrique Constância.
URL:https://henriqueconstancia.com/pt/event/concerto-filarmonia-das-beiras/
LOCATION:Centro Cultural de Eirol\, Aveiro\, 3800-685 Eirol\, Portugal
END:VEVENT
BEGIN:VEVENT
DTSTART;TZID=UTC:20250322T213000
DTEND;TZID=UTC:20250322T223000
DTSTAMP:20260424T223624
CREATED:20250307T230751Z
LAST-MODIFIED:20250611T200846Z
UID:626-1742679000-1742682600@henriqueconstancia.com
SUMMARY:Orquestra Filarmonia das Beiras
DESCRIPTION:Paisagens\nCultura perto de si! Concertos nas Freguesias \n Obras de Tchaikovski\, Honegger\, Wagner e Hayan \n| Maestro  Henrique Constância \nApostando na promoção da cultura por todo o Município\, como tem sido habitual nos últimos anos\, a Câmara Municipal de Aveiro em conjunto com a Orquestra das Beiras promove a iniciativa Cultura perto de Si – Concertos nas Freguesias\, dinamizando nas Freguesias de Eirol\, Nossa Sra. de Fátima e São Jacinto\, um concerto itinerante com um programa onde serão interpretadas obras de Tchaikovski\, Honegger\, Wagner e Haydn\, sob a direção do maestro convidado Henrique Constância.
URL:https://henriqueconstancia.com/pt/event/concerto-filarmonia-das-beiras-2/
LOCATION:Salão Polivalente de Nossa Sra. de Fátima\, R. da Igreja 48\, Aveiro\, 3810-744 Nossa Sra. de Fátima\, Portugal
END:VEVENT
BEGIN:VEVENT
DTSTART;TZID=UTC:20250323T170000
DTEND;TZID=UTC:20250323T190000
DTSTAMP:20260424T223624
CREATED:20250307T232605Z
LAST-MODIFIED:20250611T200816Z
UID:631-1742749200-1742756400@henriqueconstancia.com
SUMMARY:Orquestra Filarmonia das Beiras
DESCRIPTION:Paisagens\nCultura perto de si! Concertos nas Freguesias \n Obras de Tchaikovski\, Honegger\, Wagner e Hayan \n| Maestro  Henrique Constância \nApostando na promoção da cultura por todo o Município\, como tem sido habitual nos últimos anos\, a Câmara Municipal de Aveiro em conjunto com a Orquestra das Beiras promove a iniciativa Cultura perto de Si – Concertos nas Freguesias\, dinamizando nas Freguesias de Eirol\, Nossa Sra. de Fátima e São Jacinto\, um concerto itinerante com um programa onde serão interpretadas obras de Tchaikovski\, Honegger\, Wagner e Haydn\, sob a direção do maestro convidado Henrique Constância. \n \n 
URL:https://henriqueconstancia.com/pt/event/concerto-filarmonia-das-beiras-3/
LOCATION:Salão Paroquial de São Jacinto\, R. Dr. Ginja Brandão\, São Jacinto\, Aveiro\, Portugal
END:VEVENT
END:VCALENDAR