BEGIN:VCALENDAR
VERSION:2.0
PRODID:-// - ECPv6.15.20//NONSGML v1.0//EN
CALSCALE:GREGORIAN
METHOD:PUBLISH
X-ORIGINAL-URL:https://henriqueconstancia.com/pt
X-WR-CALDESC:Eventos para 
REFRESH-INTERVAL;VALUE=DURATION:PT1H
X-Robots-Tag:noindex
X-PUBLISHED-TTL:PT1H
BEGIN:VTIMEZONE
TZID:UTC
BEGIN:STANDARD
TZOFFSETFROM:+0000
TZOFFSETTO:+0000
TZNAME:UTC
DTSTART:20230101T000000
END:STANDARD
END:VTIMEZONE
BEGIN:VEVENT
DTSTART;TZID=UTC:20240422T213000
DTEND;TZID=UTC:20240422T233000
DTSTAMP:20260423T233425
CREATED:20240323T084707Z
LAST-MODIFIED:20250611T202533Z
UID:369-1713821400-1713828600@henriqueconstancia.com
SUMMARY:Orquestra Filarmonia das Beiras - Abril em Flor - Vitorino e Janita Salomé
DESCRIPTION:
URL:https://henriqueconstancia.com/pt/event/abril-em-flor-vitorino-janita-salome-e-orquestra-filarmonia-das-beiras/
LOCATION:Auditório Renato Araújo (Reitoria da Universidade de Aveiro)\, Aveiro\, Portugal
END:VEVENT
BEGIN:VEVENT
DTSTART;TZID=UTC:20240424T223000
DTEND;TZID=UTC:20240424T233000
DTSTAMP:20260423T233425
CREATED:20240323T085421Z
LAST-MODIFIED:20240323T090111Z
UID:373-1713997800-1714001400@henriqueconstancia.com
SUMMARY:Orquestra Filarmonia das Beiras convida Vitorino & Janita Salomé
DESCRIPTION:
URL:https://henriqueconstancia.com/pt/event/orquestra-filarmonia-das-beiras-convida-vitorino-janita-salome/
LOCATION:Largo do Papa (concerto ao ar livre)\, Leiria\, Portugal
END:VEVENT
END:VCALENDAR