BEGIN:VCALENDAR
VERSION:2.0
PRODID:-// - ECPv6.15.20//NONSGML v1.0//EN
CALSCALE:GREGORIAN
METHOD:PUBLISH
X-ORIGINAL-URL:https://henriqueconstancia.com/pt
X-WR-CALDESC:Eventos para 
REFRESH-INTERVAL;VALUE=DURATION:PT1H
X-Robots-Tag:noindex
X-PUBLISHED-TTL:PT1H
BEGIN:VTIMEZONE
TZID:UTC
BEGIN:STANDARD
TZOFFSETFROM:+0000
TZOFFSETTO:+0000
TZNAME:UTC
DTSTART:20240101T000000
END:STANDARD
END:VTIMEZONE
BEGIN:VEVENT
DTSTART;TZID=UTC:20250706T160000
DTEND;TZID=UTC:20250706T173000
DTSTAMP:20260424T172422
CREATED:20250516T225810Z
LAST-MODIFIED:20250701T211936Z
UID:672-1751817600-1751823000@henriqueconstancia.com
SUMMARY:Orquestra Filarmonia das Beiras
DESCRIPTION:SARDOAL INTERNATIONAL PIANO MEETING \nENCONTRO INTERNACIONAL DE PIANO DO SARDOAL \nConcerto de Encerramento  \nClosing Concert \nOrquestra Filarmonia das Beiras \nÁsta Dóra Finnsdóttir piano \nHenrique Constância maestro \nA Orquestra das Beiras apresenta o concerto de encerramento do X Encontro Internacional de Piano do Sardoal com a pianista Ásta Dóra Finnsdóttir sob a direção musical do maestro convidado Henrique Constância. Será interpretado \nConcerto para piano n° 1 em Mi bemol maior\, S.124 de Franz Liszt \nSuite de El Amor Brujo de Manuel de Falla \nAbertura de L’Italiana in Algeri de Gioachino Rossini. \n \nO Encontro Internacional de Piano de Sardoal\, que se realiza entre 28 de junho e 6 julho\, assinala\, este ano a sua décima edição\, afirmando-se\, atualmente\, como um evento de referência no panorama musical nacional e internacional\, assente em dois pilares essenciais: formação e excelência artística. \nA iniciativa conta com o Alto Patrocínio de Sua Excelência o Presidente da República e tem o apoio institucional de outras entidades de relevo nacional\, como o Turismo do Centro\, a Cinemateca\, a RTP 2 e a Antena 2. De referir ainda que a iniciativa é financiada pela Direção Geral das Artes\, ao abrigo do Apoio à Programação da RTCP. \nCom mais de 80 participantes\, oriundos de 23 países\, o X Encontro Internacional de Piano de Sardoal\, apresenta um programa diversificado e de elevada qualidade\, combinando concertos sinfónicos\, recitais e música de câmara\, formação especializada\, X Concurso Internacional de Piano – Prémio Sardoal Jovem Talento\, Caminhada-concerto “Música pelo Património” e Cine-concerto\, que este ano faz uma homenagem a Carlos Paredes. \nÀ semelhança de anos anteriores\, a iniciativa\, que nas edições anteriores se pautou por um elevado sucesso\, volta a trazer ao Sardoal algumas das maiores promessas do piano a nível mundial\, assim como alguns dos mestres mais conceituados internacionais. \nO Encontro Internacional de Piano de Sardoal é uma coprodução deste Município e da Academia Internacional de Música Aquiles Delle Vigne\, contando com a participação da Filarmónica União Sardoalense e a parceria do Espalhafitas – Cineclube de Abrantes.
URL:https://henriqueconstancia.com/pt/event/concerto-orquestra-filarmonia-das-beiras/
LOCATION:Centro Cultural Gil Vicente\, Av. D. João III\, Sardoal\, 2230-135\, Portugal
ORGANIZER;CN="Academia Internacional de M%C3%BAsica Aquiles delle Vigne":MAILTO:infoacademiadellevigne@gmail.com
END:VEVENT
END:VCALENDAR