BEGIN:VCALENDAR
VERSION:2.0
PRODID:-// - ECPv6.15.20//NONSGML v1.0//EN
CALSCALE:GREGORIAN
METHOD:PUBLISH
X-ORIGINAL-URL:https://henriqueconstancia.com/pt
X-WR-CALDESC:Eventos para 
REFRESH-INTERVAL;VALUE=DURATION:PT1H
X-Robots-Tag:noindex
X-PUBLISHED-TTL:PT1H
BEGIN:VTIMEZONE
TZID:UTC
BEGIN:STANDARD
TZOFFSETFROM:+0000
TZOFFSETTO:+0000
TZNAME:UTC
DTSTART:20230101T000000
END:STANDARD
END:VTIMEZONE
BEGIN:VEVENT
DTSTART;TZID=UTC:20240726T213000
DTEND;TZID=UTC:20240726T223000
DTSTAMP:20260423T194909
CREATED:20240706T193632Z
LAST-MODIFIED:20250611T201848Z
UID:415-1722029400-1722033000@henriqueconstancia.com
SUMMARY:Orquestra do Festival de Música de Bendada
DESCRIPTION:Orquestra Sem Fronteiras  \n| 2024 Concerto Competition Final \n| Maestro: Henrique Constância
URL:https://henriqueconstancia.com/pt/event/bendada-music-festival-concerto/
LOCATION:Castelo do Sabugal\, Sabugal\, Portugal
END:VEVENT
END:VCALENDAR