BEGIN:VCALENDAR
VERSION:2.0
PRODID:-// - ECPv6.15.20//NONSGML v1.0//EN
CALSCALE:GREGORIAN
METHOD:PUBLISH
X-ORIGINAL-URL:https://henriqueconstancia.com/pt
X-WR-CALDESC:Eventos para 
REFRESH-INTERVAL;VALUE=DURATION:PT1H
X-Robots-Tag:noindex
X-PUBLISHED-TTL:PT1H
BEGIN:VTIMEZONE
TZID:UTC
BEGIN:STANDARD
TZOFFSETFROM:+0000
TZOFFSETTO:+0000
TZNAME:UTC
DTSTART:20230101T000000
END:STANDARD
END:VTIMEZONE
BEGIN:VEVENT
DTSTART;TZID=UTC:20240720T210000
DTEND;TZID=UTC:20240720T223000
DTSTAMP:20260423T195235
CREATED:20240706T192603Z
LAST-MODIFIED:20250611T202052Z
UID:409-1721509200-1721514600@henriqueconstancia.com
SUMMARY:Orquestra Clássica do Centro
DESCRIPTION:Orquestra Clássica do Centro \n| Concerto de Homenagem ao Professor Alexandre Linhares Furtado \n| Helena Ferreira\, soprano\n| Marcelo Alexandre\, tenor \n| Obras de Dvorak\, Mozart\, Verdi\n| Maestro: Henrique Constância
URL:https://henriqueconstancia.com/pt/event/homenagem-ao-doutor-linhares-furtado/
LOCATION:Pavilhão Centro de Portugal\, Av. da Lousã ( Parque Verde do Mondego )\, Coimbra\, Portugal
ORGANIZER;CN="Orquestra Cl%C3%A1ssica do Centro":MAILTO:occ@orquestraclassicadocentro.org
END:VEVENT
END:VCALENDAR