BEGIN:VCALENDAR
VERSION:2.0
PRODID:-// - ECPv6.15.20//NONSGML v1.0//EN
CALSCALE:GREGORIAN
METHOD:PUBLISH
X-ORIGINAL-URL:https://henriqueconstancia.com/en
X-WR-CALDESC:Events for 
REFRESH-INTERVAL;VALUE=DURATION:PT1H
X-Robots-Tag:noindex
X-PUBLISHED-TTL:PT1H
BEGIN:VTIMEZONE
TZID:UTC
BEGIN:STANDARD
TZOFFSETFROM:+0000
TZOFFSETTO:+0000
TZNAME:UTC
DTSTART:20230101T000000
END:STANDARD
END:VTIMEZONE
BEGIN:VEVENT
DTSTART;TZID=UTC:20240611T213000
DTEND;TZID=UTC:20240611T223000
DTSTAMP:20260423T233232
CREATED:20240522T223325Z
LAST-MODIFIED:20250611T202150Z
UID:388-1718141400-1718145000@henriqueconstancia.com
SUMMARY:Sinfonietta de Braga
DESCRIPTION:No próximo dia 11 de junho\, terça-feira\, a Sinfonietta de Braga estará em Monção sob a direção musical do maestro Henrique Constância \nNeste concerto de entrada livre serão interpretadas obras de \nE. Elgar\, J. Sibelius e P. Hindemith \ncom um programa com enfoque na orquestra de cordas \nOn the upcoming Tuesday\, June 11\, Sinfonietta de Braga will be in Monção under the musical direction of maestro Henrique Constância. \nIn this free entry concert\, works by \nE. Elgar\, J. Sibelius and P. Hindemith \nwill be performed\, with a program focusing on the string orchestra
URL:https://henriqueconstancia.com/en/event/concerto-sinfonietta-de-braga/
LOCATION:Cine-Teatro João Verde\, Largo da Alfândega\, 1\, Monção\, 4950-432\, Portugal
END:VEVENT
END:VCALENDAR