BEGIN:VCALENDAR
VERSION:2.0
PRODID:-// - ECPv6.15.20//NONSGML v1.0//EN
CALSCALE:GREGORIAN
METHOD:PUBLISH
X-ORIGINAL-URL:https://henriqueconstancia.com/en
X-WR-CALDESC:Events for 
REFRESH-INTERVAL;VALUE=DURATION:PT1H
X-Robots-Tag:noindex
X-PUBLISHED-TTL:PT1H
BEGIN:VTIMEZONE
TZID:UTC
BEGIN:STANDARD
TZOFFSETFROM:+0000
TZOFFSETTO:+0000
TZNAME:UTC
DTSTART:20230101T000000
END:STANDARD
END:VTIMEZONE
BEGIN:VEVENT
DTSTART;TZID=UTC:20240317T113000
DTEND;TZID=UTC:20240317T123000
DTSTAMP:20260424T042127
CREATED:20240108T112048Z
LAST-MODIFIED:20250611T202330Z
UID:273-1710675000-1710678600@henriqueconstancia.com
SUMMARY:Orquestra do Algarve
DESCRIPTION:Programa: \n J. Massenet\, “Le Roman d’Arlequin” \nGounoud\, “Marcha fúnebre para uma Marioneta” \nDélibes\, “Le Roi s’amuse” \n 
URL:https://henriqueconstancia.com/en/event/concerto-orquestra-do-algarve-1/
LOCATION:Loulé – Cine Teatro Louletano\, Cine Teatro Louletano\, Loulé\, Portugal
END:VEVENT
BEGIN:VEVENT
DTSTART;TZID=UTC:20240317T160000
DTEND;TZID=UTC:20240317T173000
DTSTAMP:20260424T042127
CREATED:20240108T112242Z
LAST-MODIFIED:20250611T202252Z
UID:275-1710691200-1710696600@henriqueconstancia.com
SUMMARY:Orquestra do Algarve
DESCRIPTION:Programa: \n J. Massenet\, “Le Roman d’Arlequin” \nGounoud\, “Marcha fúnebre para uma Marioneta” \nDélibes\, “Le Roi s’amuse” \n 
URL:https://henriqueconstancia.com/en/event/concerto-orquestra-do-algarve-2/
LOCATION:Lagoa – Auditório Municipal Carlos do Carmo\, Auditório Municipal Carlos do Carmo\, Lagoa\, Algarve\, Portugal
END:VEVENT
END:VCALENDAR