BEGIN:VCALENDAR
VERSION:2.0
PRODID:-// - ECPv6.15.20//NONSGML v1.0//EN
CALSCALE:GREGORIAN
METHOD:PUBLISH
X-ORIGINAL-URL:https://henriqueconstancia.com/en
X-WR-CALDESC:Events for 
REFRESH-INTERVAL;VALUE=DURATION:PT1H
X-Robots-Tag:noindex
X-PUBLISHED-TTL:PT1H
BEGIN:VTIMEZONE
TZID:UTC
BEGIN:STANDARD
TZOFFSETFROM:+0000
TZOFFSETTO:+0000
TZNAME:UTC
DTSTART:20240101T000000
END:STANDARD
END:VTIMEZONE
BEGIN:VEVENT
DTSTART;TZID=UTC:20250908T143000
DTEND;TZID=UTC:20250908T153000
DTSTAMP:20260425T155359
CREATED:20250815T225607Z
LAST-MODIFIED:20250817T222010Z
UID:897-1757341800-1757345400@henriqueconstancia.com
SUMMARY:Festival Cidnay - Oficina Musical
DESCRIPTION:Oficina Musical para Crianças\nHenrique Constância | Maestro \n \n 
URL:https://henriqueconstancia.com/en/event/cidany-festival/
LOCATION:Quinta de Fora\, Largo Abade de Pedrosa\, nº. 1\, Santo Tirso\, 4780-368 Santo Tirso\, Portugal
END:VEVENT
BEGIN:VEVENT
DTSTART;TZID=UTC:20250908T163000
DTEND;TZID=UTC:20250908T173000
DTSTAMP:20260425T155359
CREATED:20250815T232752Z
LAST-MODIFIED:20250817T221938Z
UID:904-1757349000-1757352600@henriqueconstancia.com
SUMMARY:Festival Cidnay - Oficina Musical
DESCRIPTION:Oficina Musical para Séniores\nHenrique Constância | Maestro
URL:https://henriqueconstancia.com/en/event/cidnay-festival-4/
LOCATION:Auditório Eng. Eurico de Melo\, Rua da Misericórdia\, 171\, Santo Tirso\, 4780-371 Santo Tirso\, Portugal
END:VEVENT
BEGIN:VEVENT
DTSTART;TZID=UTC:20250914T110000
DTEND;TZID=UTC:20250914T120000
DTSTAMP:20260425T155359
CREATED:20250815T222433Z
LAST-MODIFIED:20250817T223033Z
UID:876-1757847600-1757851200@henriqueconstancia.com
SUMMARY:Festival Cidnay - Sinfonia dos Brinquedos
DESCRIPTION:Sinfonia dos Brinquedos\nOrquestra ARTAVINHOS \nApresentação | Gonçalo Tavares \nDireção Musical | Henrique Constância \n \nLEOPOLD MOZART (1719-1787) \nSinfonia dos Brinquedos (ca. 1760) \nI. Allegro \nII. Andante \nIII. Menuetto \nIV. Allegro (Finale) \n  \nFREDERICK DELIUS (1862-1934) \nAo Ouvir o Primeiro Cuco na Primavera (1912) \nBÉLA BARTÓK (1881-1945) \nPara Crianças (1908-1911) \n(arr. para orquestra LEÓ WEINER) \n  \nCHARLES GOUNOD (1818-1893) \nMarcha Fúnebre para uma Marioneta (1872) \nA Orquestra Artavinhos convida o público a embarcar numa viagem pelo universo infantil\, onde a música ganha vida através do talento e entusiasmo dos seus jovens intérpretes. Mais do que um simples espetáculo\, este concerto é uma oportunidade singular para explorar o fascinante mundo da música clássica de forma envolvente e cativante. Sob a direção do maestro Henrique Constância e apresentação de Gonçalo Tavares\, o público é conduzido numa aventura repleta de diversão e descobertas sobre a história e o funcionamento dos instrumentos que compõem a orquestra. A viagem tem início com a Sinfonia dos Brinquedos\, composição atribuída a Leopold Mozart – pai de Wolfgang Amadeus Mozart -\, onde instrumentos “sérios” se entrelaçam com apitos\, pássaros de corda\, tamborins e outros brinquedos musicais. Este concerto é uma verdadeira celebração sonora\, em que a música clássica se une à brincadeira num só palco. Um momento perfeito para ouvir\, sorrir\, aprender e sentir como a música pode ser uma linguagem divertida e apaixonante para todas as idades. \nUm convite especial para despertar a curiosidade e a imaginação em família. \n  \n 
URL:https://henriqueconstancia.com/en/event/cidnay-festival/
LOCATION:Teatro Narciso Ferreira\, Av. Narciso Ferreira\, Famalicão\, 4765-202 Riba d’Ave\, Portugal
END:VEVENT
BEGIN:VEVENT
DTSTART;TZID=UTC:20250915T110000
DTEND;TZID=UTC:20250915T120000
DTSTAMP:20260425T155359
CREATED:20250815T223600Z
LAST-MODIFIED:20250817T222907Z
UID:885-1757934000-1757937600@henriqueconstancia.com
SUMMARY:Festival Cidnay - Sinfonia dos Brinquedos
DESCRIPTION:Sinfonia dos Brinquedos\nOrquestra ARTAVINHOS \nApresentação | Gonçalo Tavares \nDireção Musical | Henrique Constância \n  \nLEOPOLD MOZART (1719-1787) \nSinfonia dos Brinquedos (ca. 1760) \nI. Allegro \nII. Andante \nIII. Menuetto \nIV. Allegro (Finale) \n  \nFREDERICK DELIUS (1862-1934) \nAo Ouvir o Primeiro Cuco na Primavera (1912) \nBÉLA BARTÓK (1881-1945) \nPara Crianças (1908-1911) \n(arr. para orquestra LEÓ WEINER) \n  \nCHARLES GOUNOD (1818-1893) \nMarcha Fúnebre para uma Marioneta (1872) \n  \nA Orquestra Artavinhos convida o público a embarcar numa viagem pelo universo infantil\, onde a música ganha vida através do talento e entusiasmo dos seus jovens intérpretes. Mais do que um simples espetáculo\, este concerto é uma oportunidade singular para explorar o fascinante mundo da música clássica de forma envolvente e cativante. Sob a direção do maestro Henrique Constância e apresentação de Gonçalo Tavares\, o público é conduzido numa aventura repleta de diversão e descobertas sobre a história e o funcionamento dos instrumentos que compõem a orquestra. A viagem tem início com a Sinfonia dos Brinquedos\, composição atribuída a Leopold Mozart – pai de Wolfgang Amadeus Mozart -\, onde instrumentos “sérios” se entrelaçam com apitos\, pássaros de corda\, tamborins e outros brinquedos musicais. Este concerto é uma verdadeira celebração sonora\, em que a música clássica se une à brincadeira num só palco. Um momento perfeito para ouvir\, sorrir\, aprender e sentir como a música pode ser uma linguagem divertida e apaixonante para todas as idades. \nUm convite especial para despertar a curiosidade e a imaginação em família. \n 
URL:https://henriqueconstancia.com/en/event/cidnay-festival-2/
LOCATION:Aditório da Escola Básica de Ribeirão\, Av. Rio Veirão\, Famalicâo\, 4760-711 Ribeirão\, Portugal
END:VEVENT
BEGIN:VEVENT
DTSTART;TZID=UTC:20250916T180000
DTEND;TZID=UTC:20250916T190000
DTSTAMP:20260425T155359
CREATED:20250815T224458Z
LAST-MODIFIED:20250817T222847Z
UID:889-1758045600-1758049200@henriqueconstancia.com
SUMMARY:Festival Cidnay - Sinfonia dos Brinquedos
DESCRIPTION:Sinfonia dos Brinquedos\nOrquestra ARTAVINHOS \nApresentação | Gonçalo Tavares \nDireção Musical | Henrique Constância \n  \nLEOPOLD MOZART (1719-1787) \nSinfonia dos Brinquedos (ca. 1760) \nI. Allegro \nII. Andante \nIII. Menuetto \nIV. Allegro (Finale) \n  \nFREDERICK DELIUS (1862-1934) \nAo Ouvir o Primeiro Cuco na Primavera (1912) \nBÉLA BARTÓK (1881-1945) \nPara Crianças (1908-1911) \n(arr. para orquestra LEÓ WEINER) \n  \nCHARLES GOUNOD (1818-1893) \nMarcha Fúnebre para uma Marioneta (1872) \nA Orquestra Artavinhos convida o público a embarcar numa viagem pelo universo infantil\, onde a música ganha vida através do talento e entusiasmo dos seus jovens intérpretes. Mais do que um simples espetáculo\, este concerto é uma oportunidade singular para explorar o fascinante mundo da música clássica de forma envolvente e cativante. Sob a direção do maestro Henrique Constância e apresentação de Gonçalo Tavares\, o público é conduzido numa aventura repleta de diversão e descobertas sobre a história e o funcionamento dos instrumentos que compõem a orquestra. A viagem tem início com a Sinfonia dos Brinquedos\, composição atribuída a Leopold Mozart – pai de Wolfgang Amadeus Mozart -\, onde instrumentos “sérios” se entrelaçam com apitos\, pássaros de corda\, tamborins e outros brinquedos musicais. Este concerto é uma verdadeira celebração sonora\, em que a música clássica se une à brincadeira num só palco. Um momento perfeito para ouvir\, sorrir\, aprender e sentir como a música pode ser uma linguagem divertida e apaixonante para todas as idades. \nUm convite especial para despertar a curiosidade e a imaginação em família.
URL:https://henriqueconstancia.com/en/event/cidnay-festival-3/
LOCATION:Auditório Pe. António Vieira – Artave\, Rua da Termas\, Santo Tirso\, 4780 Areias\, Portugal
END:VEVENT
BEGIN:VEVENT
DTSTART;TZID=UTC:20260101T180000
DTEND;TZID=UTC:20260101T193000
DTSTAMP:20260425T155359
CREATED:20251120T083957Z
LAST-MODIFIED:20251227T025004Z
UID:992-1767290400-1767295800@henriqueconstancia.com
SUMMARY:Orquestra Filarmonia das Beiras
DESCRIPTION:Concerto de Ano Novo
URL:https://henriqueconstancia.com/en/event/orquestra-filarmonia-das-beiras/
LOCATION:Teatro Aveirense\, Aveiro\, Portugal
END:VEVENT
BEGIN:VEVENT
DTSTART;TZID=UTC:20260102T213000
DTEND;TZID=UTC:20260102T230000
DTSTAMP:20260425T155359
CREATED:20251120T084223Z
LAST-MODIFIED:20251227T024230Z
UID:995-1767389400-1767394800@henriqueconstancia.com
SUMMARY:Orquestra Filarmonia das Beiras
DESCRIPTION:Concerto de Ano Novo
URL:https://henriqueconstancia.com/en/event/orquestra-filarmonia-das-beiras-2/
LOCATION:Teatro Aveirense\, Aveiro\, Portugal
END:VEVENT
BEGIN:VEVENT
DTSTART;TZID=UTC:20260103T210000
DTEND;TZID=UTC:20260103T223000
DTSTAMP:20260425T155359
CREATED:20251120T084458Z
LAST-MODIFIED:20251227T024316Z
UID:998-1767474000-1767479400@henriqueconstancia.com
SUMMARY:Orquestra Filarmonia das Beiras
DESCRIPTION:Concerto de Ano Novo
URL:https://henriqueconstancia.com/en/event/orquestra-filarmonia-das-beiras-3/
LOCATION:Teatro Viriato\, Viseu\, Portugal
END:VEVENT
BEGIN:VEVENT
DTSTART;TZID=UTC:20260109T213000
DTEND;TZID=UTC:20260109T230000
DTSTAMP:20260425T155359
CREATED:20251120T084726Z
LAST-MODIFIED:20251227T192540Z
UID:1001-1767994200-1767999600@henriqueconstancia.com
SUMMARY:Orquestra Filarmonia das Beiras
DESCRIPTION:  \nConcerto de Ano Novo\n“Ano Novo\, Vida Nova\, porém\, as tradições habituais. Mais uma vez\, a Orquestra das Beiras assume a missão de apresentar um programa de Ano Novo que se pretende transformar numa autêntica festa. O público será convidado a deixar a imaginação viajar dentro da música intemporal de Johann Strauss II e seus contemporâneos. Pelas Valsas\, Polkas e Marchas tão bem conhecidos de todos nós. Para acrescentar ao ambiente festivo o programa será articulado com árias e duetos oriundos da Ópera e Opereta. Com a presença de dois dos principais cantores líricos\, a soprano Rafaela Albuquerque e o tenor Marco Alves dos Santos\, pretende-se fazer uma viagem pela boa disposição operática\, estando os dois convidados encarregues de fazer toda a gente receber o novo ano com um riso sincero\, contando e cantando amores\, desamores\, peripécias e travessuras. Tudo isto cuidadosamente guiado e tecido pela energia positiva contagiante e talento do Maestro Henrique Constância.”
URL:https://henriqueconstancia.com/en/event/orquestra-filarmonia-das-beiras-4/
LOCATION:Casa da Creatividade\, São João da Madeira\, Portugal
END:VEVENT
BEGIN:VEVENT
DTSTART;TZID=UTC:20260227T120000
DTEND;TZID=UTC:20260227T130000
DTSTAMP:20260425T155359
CREATED:20260218T113524Z
LAST-MODIFIED:20260218T132617Z
UID:1049-1772193600-1772197200@henriqueconstancia.com
SUMMARY:Kongelige Norske Marines Musikkorps
DESCRIPTION:Lunch concert with Norwegian and Portuguese music\nThis lunch concert will feature several well-known and beloved\, but also rarely performed\, works by Geirr Tveitt. Just as Tveitt’s music is inspired by Norwegian folk music\, Fernando Lopes Graça’s work “Suite Rústica No. 3” is also inspired by Portuguese folk music. This will be the first time the Marine Music Society has performed this exuberant and colorful work. The concert will also feature music by Borodin and Gounod. \nConductor – Henrique Constância \nProgram: \nMarche Fanfare – C. Gounod\nSerenata Toscana – P. Grainger\nPrinds Christian Fredriks Honnormarch – G. Tveitt\nSuite Rústica No. 3 – Fernando Lopes Graça\n– Prelúdio alentejano\n– Cena transmontana\n– Cerimónia Religiosa da Beira Baixa\n– A beira Alta de visita ao Alentejo \nGarsvoren dansar – G. Tveitt\nMed sterkt øl – G. Tveitt\nDet gamle kvernhuset – G. Tveitt\nVelkomne med æra – G. Tveitt\nPolovtsian Dances – A. Borodin \n 
URL:https://henriqueconstancia.com/en/event/kongelige-norske-marines-musikkorps/
LOCATION:Torpedoverkstedet\, Torpedoverkstedet\, Karljohansvern\, Horten\, 3183\, Norway
END:VEVENT
BEGIN:VEVENT
DTSTART;TZID=UTC:20260725T080000
DTEND;TZID=UTC:20260802T170000
DTSTAMP:20260425T155359
CREATED:20260418T084054Z
LAST-MODIFIED:20260418T084614Z
UID:1063-1784966400-1785690000@henriqueconstancia.com
SUMMARY:Bendada International Music Festival
DESCRIPTION:Bendada International Music Festival
URL:https://henriqueconstancia.com/en/event/bendada-international-music-festival/
LOCATION:Castelo do Sabugal\, Sabugal\, Portugal
END:VEVENT
BEGIN:VEVENT
DTSTART;TZID=UTC:20261003T180000
DTEND;TZID=UTC:20261003T193000
DTSTAMP:20260425T155359
CREATED:20251201T224550Z
LAST-MODIFIED:20251201T224550Z
UID:1006-1791050400-1791055800@henriqueconstancia.com
SUMMARY:Orquestra Sinfónica do Porto - Casa da Música
DESCRIPTION:RETRO GAMING SINFÓNICO\nOrquestra Sinfónica do Porto\nHenrique Constância direção musical \nDa energia retro de Tetris\, Mega Man ou Sonic 2 à dimensão mais cinematográfica de Final Fantasy VIII\, Tomb Raider ou Medal of Honor\, este concerto da Orquestra Sinfónica do Porto Casa da Música revisita bandas sonoras de videojogos que marcaram sobretudo as décadas de 1980 e 1990. O programa abrange universos tão distintos como Monkey Island\, Street Fighter II Turbo\, Donkey Kong ou The Legend of Zelda: A Link to the Past\, revelando a diversidade estética e a força imaginativa que marcaram gerações de jogadores. Uma celebração do papel narrativo e emocional da música no universo digital.
URL:https://henriqueconstancia.com/en/event/orquestra-sinfonica-do-porto-casa-da-musica/
LOCATION:Casa da Música – Sala Suggia\, Av. da Boavista 604-610\, Porto\, 4149-071\, Portugal
END:VEVENT
END:VCALENDAR