BEGIN:VCALENDAR
VERSION:2.0
PRODID:-// - ECPv6.15.20//NONSGML v1.0//EN
CALSCALE:GREGORIAN
METHOD:PUBLISH
X-ORIGINAL-URL:https://henriqueconstancia.com/en
X-WR-CALDESC:Events for 
REFRESH-INTERVAL;VALUE=DURATION:PT1H
X-Robots-Tag:noindex
X-PUBLISHED-TTL:PT1H
BEGIN:VTIMEZONE
TZID:UTC
BEGIN:STANDARD
TZOFFSETFROM:+0000
TZOFFSETTO:+0000
TZNAME:UTC
DTSTART:20230101T000000
END:STANDARD
END:VTIMEZONE
BEGIN:VEVENT
DTSTART;TZID=UTC:20240719T190000
DTEND;TZID=UTC:20240719T203000
DTSTAMP:20260423T233809
CREATED:20240706T185852Z
LAST-MODIFIED:20250611T202756Z
UID:398-1721415600-1721421000@henriqueconstancia.com
SUMMARY:Orquestra Clássica do Centro | Aristides - O Concerto
DESCRIPTION:Orquestra Clássica do Centro | Música de Simon Wadsworth e António Leal | Letra de Sandra Leal\n| Maestro: Henrique Constância
URL:https://henriqueconstancia.com/en/event/aristides-o-concerto/
LOCATION:Centro Cultural de Carregal do Sal\, Praça do Município\, Carregal do Sal\, 3430-167 Carregal do Sal\, Portugal
END:VEVENT
BEGIN:VEVENT
DTSTART;TZID=UTC:20240720T210000
DTEND;TZID=UTC:20240720T223000
DTSTAMP:20260423T233809
CREATED:20240706T192603Z
LAST-MODIFIED:20250611T202052Z
UID:409-1721509200-1721514600@henriqueconstancia.com
SUMMARY:Orquestra Clássica do Centro
DESCRIPTION:Orquestra Clássica do Centro \n| Concerto de Homenagem ao Professor Alexandre Linhares Furtado \n| Helena Ferreira\, soprano\n| Marcelo Alexandre\, tenor \n| Obras de Dvorak\, Mozart\, Verdi\n| Maestro: Henrique Constância
URL:https://henriqueconstancia.com/en/event/homenagem-ao-doutor-linhares-furtado/
LOCATION:Pavilhão Centro de Portugal\, Av. da Lousã ( Parque Verde do Mondego )\, Coimbra\, Portugal
ORGANIZER;CN="Orquestra Cl%C3%A1ssica do Centro":MAILTO:occ@orquestraclassicadocentro.org
END:VEVENT
BEGIN:VEVENT
DTSTART;TZID=UTC:20240726T213000
DTEND;TZID=UTC:20240726T223000
DTSTAMP:20260423T233809
CREATED:20240706T193632Z
LAST-MODIFIED:20250611T201848Z
UID:415-1722029400-1722033000@henriqueconstancia.com
SUMMARY:Orquestra do Festival de Música de Bendada
DESCRIPTION:Orquestra Sem Fronteiras  \n| 2024 Concerto Competition Final \n| Maestro: Henrique Constância
URL:https://henriqueconstancia.com/en/event/bendada-music-festival-concerto/
LOCATION:Castelo do Sabugal\, Sabugal\, Portugal
END:VEVENT
BEGIN:VEVENT
DTSTART;TZID=UTC:20240728T210000
DTEND;TZID=UTC:20240728T220000
DTSTAMP:20260423T233809
CREATED:20240706T194510Z
LAST-MODIFIED:20250611T201730Z
UID:423-1722200400-1722204000@henriqueconstancia.com
SUMMARY:Orquestra Clássica do Centro
DESCRIPTION:Orquestra Clássica do Centro \n| Obras de Dvorak\, Mozart\, Puccini \n| Maestro: Henrique Constância \n 
URL:https://henriqueconstancia.com/en/event/concerto-orquestra-classica-do-centro/
LOCATION:Penedono\, Penedono\, Portugal
END:VEVENT
BEGIN:VEVENT
DTSTART;TZID=UTC:20240907T210000
DTEND;TZID=UTC:20240907T220000
DTSTAMP:20260423T233809
CREATED:20240825T132742Z
LAST-MODIFIED:20250611T201647Z
UID:498-1725742800-1725746400@henriqueconstancia.com
SUMMARY:Orquestra Clássica do Centro
DESCRIPTION:Orquestra Clássica do Centro \nFestival MUSAS \nFestival de Artes de Conímbriga \n| Obras de Joly Braga Santos\, Bruckner\, Puccini \n| Soprano: Sílvia Sequeira \n| Maestro: Henrique Constância
URL:https://henriqueconstancia.com/en/event/concerto-orquestra-classica-do-centro-2/
LOCATION:PO.RO.S – Museu Portugal Romano em Sicó\, Av. Bombeiros Voluntários de Condeixa-a-Nova\, nº 41\, Condeixa-a-Nova\, 3150-160\, Portugal
ORGANIZER;CN="Orquestra Cl%C3%A1ssica do Centro":MAILTO:occ@orquestraclassicadocentro.org
END:VEVENT
BEGIN:VEVENT
DTSTART;TZID=UTC:20240911T210000
DTEND;TZID=UTC:20240911T220000
DTSTAMP:20260423T233809
CREATED:20240825T134320Z
LAST-MODIFIED:20250611T201239Z
UID:502-1726088400-1726092000@henriqueconstancia.com
SUMMARY:Orquestra Clássica do Centro
DESCRIPTION:Orquestra Clássica do Centro \n| Obras de Joly Braga Santos\, Bruckner\, Puccini \n| Soprano: Sílvia Sequeira \n| Maestro: Henrique Constância
URL:https://henriqueconstancia.com/en/event/concerto-orquestra-classica-do-centro-3/
LOCATION:Seminário Maior de Coimbra\, Rua Vandelli\, nº 2\, Coimbra\, 3004-547\, Portugal
ORGANIZER;CN="Orquestra Cl%C3%A1ssica do Centro":MAILTO:occ@orquestraclassicadocentro.org
END:VEVENT
BEGIN:VEVENT
DTSTART;TZID=UTC:20240928T210000
DTEND;TZID=UTC:20240928T220000
DTSTAMP:20260423T233809
CREATED:20240914T185621Z
LAST-MODIFIED:20250611T201341Z
UID:550-1727557200-1727560800@henriqueconstancia.com
SUMMARY:Orquestra Clássica do Centro & Essence Voices
DESCRIPTION:Orquestra Clássica do Centro e Coro Essence Voices \nConcerto de encerramento do Festival MUSAS \nFestival de Artes de Conímbriga \n| Maestro: Henrique Constância
URL:https://henriqueconstancia.com/en/event/concerto-orquestra-classica-do-centro-essence-voices/
LOCATION:Ruínas de Conímbriga\, Conímbriga\, Condeixa a Nova\, Condeixa\, 3150\, Portugal
ORGANIZER;CN="Orquestra Cl%C3%A1ssica do Centro":MAILTO:occ@orquestraclassicadocentro.org
END:VEVENT
BEGIN:VEVENT
DTSTART;TZID=UTC:20241012T180000
DTEND;TZID=UTC:20241012T200000
DTSTAMP:20260423T233809
CREATED:20241009T234808Z
LAST-MODIFIED:20250611T201301Z
UID:570-1728756000-1728763200@henriqueconstancia.com
SUMMARY:Orquestra Clássica do Centro e Essence Voices
DESCRIPTION:Orquestra Clássica do Centro e Coro Essence Voices \nMaestro Henrique Constância \nEncenação Carla Pais \nConcerto inserido nas comemorações do 1° transplante realizado em Portugal \nHomenagem a A. Linhares Furtado
URL:https://henriqueconstancia.com/en/event/570/
LOCATION:Auditório dos Hospitais da Universidade de Coimbra\, Rua Aníbal de Lima\, Coimbra\, 3000-030\, Portugal
ORGANIZER;CN="Orquestra Cl%C3%A1ssica do Centro":MAILTO:occ@orquestraclassicadocentro.org
END:VEVENT
BEGIN:VEVENT
DTSTART;TZID=UTC:20241102T193000
DTEND;TZID=UTC:20241102T203000
DTSTAMP:20260423T233809
CREATED:20241024T234301Z
LAST-MODIFIED:20250611T201216Z
UID:577-1730575800-1730579400@henriqueconstancia.com
SUMMARY:Orquestra Clássica do Centro
DESCRIPTION:Rasgar o Silêncio – Música e Medicina \nOrquestra Clássica do Centro \nLaura Korhonen\, Voz (Aústria) \nMaestro Henrique Constância
URL:https://henriqueconstancia.com/en/event/concerto-orquestra-classica-do-centro-4/
LOCATION:Pavilhão Centro de Portugal\, Av. da Lousã ( Parque Verde do Mondego )\, Coimbra\, Portugal
ORGANIZER;CN="Orquestra Cl%C3%A1ssica do Centro":MAILTO:occ@orquestraclassicadocentro.org
END:VEVENT
BEGIN:VEVENT
DTSTART;TZID=UTC:20241109T213000
DTEND;TZID=UTC:20241109T223000
DTSTAMP:20260423T233809
CREATED:20241104T182622Z
LAST-MODIFIED:20250611T201148Z
UID:580-1731187800-1731191400@henriqueconstancia.com
SUMMARY:Orquestra do Norte
DESCRIPTION:Concerto Orquestra do Norte \nDuplo Concerto \nConcerto para Violino e Oboé em dó menor\, BWV 1060R – J. S. Bach (1685-1750)\nI. Allegro\nII. Adagio\nIII. Allegro \n3 Peças para Orquestra WAB 97 – Anton Bruckner (1824-1896)\nI. Moderato\nII. Andante\nIII. Moderato con moto \nSinfonia No. 103 em Mib Maior “Rufar dos Tímbales”\, Hob. I/103 – F. J. Haydn (1732-1809)\nI. Adagio – Allegro con spirito\nII. Andante più tosto allegretto\nIII. Menuetto\nIV. Finale – Allegro con spirito \n| Diogo Coelho\, Violino\n| Luís Matos\, Oboé \n| Henrique Constância\, Direção \n 
URL:https://henriqueconstancia.com/en/event/concerto-orquestra-do-norte/
LOCATION:Cine-Teatro Raimundo Magalhães\, R. Raimundo Magalhães 351\, Vila Meã\, 4605-383\, Portugal
END:VEVENT
BEGIN:VEVENT
DTSTART;TZID=UTC:20241221T210000
DTEND;TZID=UTC:20241221T220000
DTSTAMP:20260423T233809
CREATED:20241207T210106Z
LAST-MODIFIED:20250611T201052Z
UID:592-1734814800-1734818400@henriqueconstancia.com
SUMMARY:Orquestra do Conservatório de Palmela
DESCRIPTION:Concerto de encerramento do VI Estágio de Orquestra do Conservatório de Palmela \nOrquestra Sinfónica e de Sopros de Palmela \n18 a 21 DEZEMBRO 2024 \nVI Estágio de Orquestra \n  \nMAESTROS: \nHenrique Constância \nOrquestra de Cordas \nCarlos Lourenço \nOrquestra de Cordas Juvenil \nMário Carolino \nOrquestra de Sopros Juvenil \nConservatório Regional de Palmela
URL:https://henriqueconstancia.com/en/event/concerta-de-encerramento-do-vi-estagio-de-orquestra-do-conservatorio-de-palmela/
LOCATION:Conservatório de Palmela\, AV. Dr. GODINHO DE MATOS\, Palmela\, 2950-252\, Portugal
END:VEVENT
BEGIN:VEVENT
DTSTART;TZID=UTC:20250110T213000
DTEND;TZID=UTC:20250110T230000
DTSTAMP:20260423T233809
CREATED:20241214T090023Z
LAST-MODIFIED:20250611T200952Z
UID:600-1736544600-1736550000@henriqueconstancia.com
SUMMARY:Sinfonietta de Braga
DESCRIPTION:Viagem de Inverno\nConcerto Sinfonietta de Braga\n\nMiguel Braga Simões\, Percussão\nHenrique Constância\, Direção \n \n \n \n 
URL:https://henriqueconstancia.com/en/event/concerto-sinfonieta-de-braga/
LOCATION:Salão Medieval da Reitoria da Universidade do Minho\, Largo do Paço\, Braga\, 4704-553\, Portugal
END:VEVENT
BEGIN:VEVENT
DTSTART;TZID=UTC:20250321T213000
DTEND;TZID=UTC:20250321T223000
DTSTAMP:20260423T233809
CREATED:20250307T230210Z
LAST-MODIFIED:20250611T200914Z
UID:620-1742592600-1742596200@henriqueconstancia.com
SUMMARY:Orquestra Filarmonia das Beiras
DESCRIPTION:Paisagens\nCultura perto de si! Concertos nas Freguesias \n Obras de Tchaikovski\, Honegger\, Wagner e Hayan \n| Maestro  Henrique Constância \nApostando na promoção da cultura por todo o Município\, como tem sido habitual nos últimos anos\, a Câmara Municipal de Aveiro em conjunto com a Orquestra das Beiras promove a iniciativa Cultura perto de Si – Concertos nas Freguesias\, dinamizando nas Freguesias de Eirol\, Nossa Sra. de Fátima e São Jacinto\, um concerto itinerante com um programa onde serão interpretadas obras de Tchaikovski\, Honegger\, Wagner e Haydn\, sob a direção do maestro convidado Henrique Constância.
URL:https://henriqueconstancia.com/en/event/concerto-filarmonia-das-beiras/
LOCATION:Centro Cultural de Eirol\, Aveiro\, 3800-685 Eirol\, Portugal
END:VEVENT
BEGIN:VEVENT
DTSTART;TZID=UTC:20250322T213000
DTEND;TZID=UTC:20250322T223000
DTSTAMP:20260423T233809
CREATED:20250307T230751Z
LAST-MODIFIED:20250611T200846Z
UID:626-1742679000-1742682600@henriqueconstancia.com
SUMMARY:Orquestra Filarmonia das Beiras
DESCRIPTION:Paisagens\nCultura perto de si! Concertos nas Freguesias \n Obras de Tchaikovski\, Honegger\, Wagner e Hayan \n| Maestro  Henrique Constância \nApostando na promoção da cultura por todo o Município\, como tem sido habitual nos últimos anos\, a Câmara Municipal de Aveiro em conjunto com a Orquestra das Beiras promove a iniciativa Cultura perto de Si – Concertos nas Freguesias\, dinamizando nas Freguesias de Eirol\, Nossa Sra. de Fátima e São Jacinto\, um concerto itinerante com um programa onde serão interpretadas obras de Tchaikovski\, Honegger\, Wagner e Haydn\, sob a direção do maestro convidado Henrique Constância.
URL:https://henriqueconstancia.com/en/event/concerto-filarmonia-das-beiras-2/
LOCATION:Salão Polivalente de Nossa Sra. de Fátima\, R. da Igreja 48\, Aveiro\, 3810-744 Nossa Sra. de Fátima\, Portugal
END:VEVENT
BEGIN:VEVENT
DTSTART;TZID=UTC:20250323T170000
DTEND;TZID=UTC:20250323T190000
DTSTAMP:20260423T233809
CREATED:20250307T232605Z
LAST-MODIFIED:20250611T200816Z
UID:631-1742749200-1742756400@henriqueconstancia.com
SUMMARY:Orquestra Filarmonia das Beiras
DESCRIPTION:Paisagens\nCultura perto de si! Concertos nas Freguesias \n Obras de Tchaikovski\, Honegger\, Wagner e Hayan \n| Maestro  Henrique Constância \nApostando na promoção da cultura por todo o Município\, como tem sido habitual nos últimos anos\, a Câmara Municipal de Aveiro em conjunto com a Orquestra das Beiras promove a iniciativa Cultura perto de Si – Concertos nas Freguesias\, dinamizando nas Freguesias de Eirol\, Nossa Sra. de Fátima e São Jacinto\, um concerto itinerante com um programa onde serão interpretadas obras de Tchaikovski\, Honegger\, Wagner e Haydn\, sob a direção do maestro convidado Henrique Constância. \n \n 
URL:https://henriqueconstancia.com/en/event/concerto-filarmonia-das-beiras-3/
LOCATION:Salão Paroquial de São Jacinto\, R. Dr. Ginja Brandão\, São Jacinto\, Aveiro\, Portugal
END:VEVENT
BEGIN:VEVENT
DTSTART;TZID=UTC:20250503T180000
DTEND;TZID=UTC:20250503T193000
DTSTAMP:20260423T233809
CREATED:20250405T123058Z
LAST-MODIFIED:20250405T123058Z
UID:648-1746295200-1746300600@henriqueconstancia.com
SUMMARY:Orquestra de Câmara de Cascais e Oeiras
DESCRIPTION:Concerto Orquestra de Câmara de Cascais e Oeiras \nG.Faure | Suite “Masques et Bergamasques”\, op.112 \nV.Williams | “The Lark ascending” \nJeanne-Louise | Farrenc-Dumont Sinfonia Nº 3 op 36 \nLilia Donkova – Violino \nMaestro Henrique Constância
URL:https://henriqueconstancia.com/en/event/orquestra-de-camara-de-cascais-e-oeiras/
LOCATION:Auditório Municipal Ruy de Carvalho\, R. Cesário Verde 3\, Carnaxide\, 2790-129\, Portugal
ORGANIZER;CN="Orquestra de C%C3%A2mara de Cascais e Oeiras":MAILTO:geral@occo.pt
END:VEVENT
BEGIN:VEVENT
DTSTART;TZID=UTC:20250510T180000
DTEND;TZID=UTC:20250510T193000
DTSTAMP:20260423T233809
CREATED:20250405T123746Z
LAST-MODIFIED:20250405T123746Z
UID:653-1746900000-1746905400@henriqueconstancia.com
SUMMARY:Orquestra de Câmara de Cascais e Oeiras
DESCRIPTION:Concerto Orquestra de Câmara de Cascais e Oeiras \nG.Faure | Suite “Masques et Bergamasques”\, op.112 \nV.Williams | “The Lark ascending” \nJeanne-Louise | Farrenc-Dumont Sinfonia Nº 3 op 36 \nLilia Donkova – Violino \nMaestro Henrique Constância
URL:https://henriqueconstancia.com/en/event/orquestra-de-camara-de-cascais-e-oeiras-2/
LOCATION:Auditório Senhora da Boa Nova\, Rua Campo Santo\, 441\, Estoril\, 2765-307\, Portugal
ORGANIZER;CN="Orquestra de C%C3%A2mara de Cascais e Oeiras":MAILTO:geral@occo.pt
END:VEVENT
BEGIN:VEVENT
DTSTART;TZID=UTC:20250517T170000
DTEND;TZID=UTC:20250517T183000
DTSTAMP:20260423T233809
CREATED:20250409T002058Z
LAST-MODIFIED:20250409T005232Z
UID:662-1747501200-1747506600@henriqueconstancia.com
SUMMARY:Orquestra Clássica da Madeira
DESCRIPTION:Orquestra Clássica da Madeira \nCiclo Jovens Solistas \nConcerto dos Laureados do Concurso Nacional Luiz Peter Clode 2024 \nLuísa Margalho Violino\nJoaquim Florença Eufónio\nSusana Gomes Soprano \nMaestro Henrique Constância \nMozart | Violin Concerto n°5 | Deh Vieni Non Tardar \nPuccini | O Mio Banbbino Caro \nWesolowski | Euphory Concerto \n 
URL:https://henriqueconstancia.com/en/event/orquestra-classica-da-madeira/
LOCATION:Assembleia Legislativa da Madeira\, Av. do Mar e das Comunidades Madeirenses\, Funchal\, Madeira\, 9060-250\, Portugal
ORGANIZER;CN="Orquestra Cl%C3%A1ssica da Madeira":MAILTO:mailto:geral.ansa@gmail.com
END:VEVENT
BEGIN:VEVENT
DTSTART;TZID=UTC:20250606T110000
DTEND;TZID=UTC:20250606T123000
DTSTAMP:20260423T233809
CREATED:20250406T110759Z
LAST-MODIFIED:20250406T110759Z
UID:656-1749207600-1749213000@henriqueconstancia.com
SUMMARY:Orquestra Metropolitana de Lisboa
DESCRIPTION:Explorar a Orquestra | Para público escolar [Ciclo Explorar]\nOrquestra Metropolitana de Lisboa \nJames Stephenson Compose Yourself! \nNarração e Comentários a anunciar\nHenrique Constância maestro \nA propósito do «funcionamento» de uma orquestra\, o Guia da Orquestra para Jovens de Benjamin Britten é a mais famosa das obras musicais que combinam educação e entretenimento. Mas há outras. Mais recente\, em Compose Yourself!\, James Stephenson propõe-nos uma apresentação diferente das famílias de instrumentos\, mais em sintonia com as gerações deste novo século\, para as quais diversão e interatividade andam quase sempre de mãos dadas. Preparem-se os mais novos\, portanto. Venham ajudar a compor uma nova peça e viver o entusiasmo de uma estreia mundial.
URL:https://henriqueconstancia.com/en/event/orquestra-metropolitana-de-lisboa/
LOCATION:Auditório da Reitoria da Universidade Nova de Lisboa (UNL)\, Campus de Campolide\, Lisboa\, 1099-085 Lisboa\, Portugal
ORGANIZER;CN="Orquestra Metropolitana de Lisboa":MAILTO:metropolitana@metropolitana.pt
END:VEVENT
BEGIN:VEVENT
DTSTART;TZID=UTC:20250607T170000
DTEND;TZID=UTC:20250607T183000
DTSTAMP:20260423T233809
CREATED:20250406T111402Z
LAST-MODIFIED:20250528T235117Z
UID:660-1749315600-1749321000@henriqueconstancia.com
SUMMARY:Orquestra Metropolitana de Lisboa
DESCRIPTION:Explorar a Orquestra [Ciclo “Explorar”]\nConcerto para famílias\nOrquestra Metropolitana de Lisboa \nJames Stephenson Compose Yourself! \nNarração e Comentários a anunciar\nHenrique Constância maestro \nA propósito do «funcionamento» de uma orquestra\, o Guia da Orquestra para Jovens de Benjamin Britten é a mais famosa das obras musicais que combinam educação e entretenimento. Mas há outras. Mais recente\, em Compose Yourself!\, James Stephenson propõe-nos uma apresentação diferente das famílias de instrumentos\, mais em sintonia com as gerações deste novo século\, para as quais diversão e interatividade andam quase sempre de mãos dadas. Preparem-se os mais novos\, portanto. Venham ajudar a compor uma nova peça e viver o entusiasmo de uma estreia mundial.
URL:https://henriqueconstancia.com/en/event/orquestra-metropolitana-de-lisboa-2/
LOCATION:Auditório da Reitoria da Universidade Nova de Lisboa (UNL)\, Campus de Campolide\, Lisboa\, 1099-085 Lisboa\, Portugal
ORGANIZER;CN="Orquestra Metropolitana de Lisboa":MAILTO:metropolitana@metropolitana.pt
END:VEVENT
BEGIN:VEVENT
DTSTART;TZID=UTC:20250629T170000
DTEND;TZID=UTC:20250629T180000
DTSTAMP:20260423T233809
CREATED:20250519T185341Z
LAST-MODIFIED:20250611T184852Z
UID:692-1751216400-1751220000@henriqueconstancia.com
SUMMARY:Sinfonietta de Ponta Delgada
DESCRIPTION:Concerto Sinfonietta de Ponta Delgada \nJ. Suk – Serenata para Cordas\nA. Pärt – Cântico em memória de Benjamin Britten\nA. Bruckner – Adagio \nHenrique Constância maestro convidado
URL:https://henriqueconstancia.com/en/event/sinfonietta-de-ponta-delgada/
LOCATION:Igreja do Colégio – Museu Carlos Machado\, Largo do Colégio\, Ponta Delgada\, 9500-054\, Portugal
END:VEVENT
BEGIN:VEVENT
DTSTART;TZID=UTC:20250705T220000
DTEND;TZID=UTC:20250705T230000
DTSTAMP:20260423T233809
CREATED:20250516T231604Z
LAST-MODIFIED:20250705T181422Z
UID:677-1751752800-1751756400@henriqueconstancia.com
SUMMARY:Orquestra Filarmonia das Beiras
DESCRIPTION:FIGA \nFESTIVAL INTERNACIONAL DE GUITARRA DE AVEIRO \nCONCERTO DE ABERTURA \nOrquestra Filarmonia das Beiras \nRicardo Gallén guitarra \nHenrique Constância maestro
URL:https://henriqueconstancia.com/en/event/concerto-orquestra-filarmonia-das-beiras-2/
LOCATION:Largo da Vista Alegre\, Ílhavo\, Ílhavo\, Portugal
END:VEVENT
BEGIN:VEVENT
DTSTART;TZID=UTC:20250706T160000
DTEND;TZID=UTC:20250706T173000
DTSTAMP:20260423T233810
CREATED:20250516T225810Z
LAST-MODIFIED:20250701T211936Z
UID:672-1751817600-1751823000@henriqueconstancia.com
SUMMARY:Orquestra Filarmonia das Beiras
DESCRIPTION:SARDOAL INTERNATIONAL PIANO MEETING \nENCONTRO INTERNACIONAL DE PIANO DO SARDOAL \nConcerto de Encerramento  \nClosing Concert \nOrquestra Filarmonia das Beiras \nÁsta Dóra Finnsdóttir piano \nHenrique Constância maestro \nA Orquestra das Beiras apresenta o concerto de encerramento do X Encontro Internacional de Piano do Sardoal com a pianista Ásta Dóra Finnsdóttir sob a direção musical do maestro convidado Henrique Constância. Será interpretado \nConcerto para piano n° 1 em Mi bemol maior\, S.124 de Franz Liszt \nSuite de El Amor Brujo de Manuel de Falla \nAbertura de L’Italiana in Algeri de Gioachino Rossini. \n \nO Encontro Internacional de Piano de Sardoal\, que se realiza entre 28 de junho e 6 julho\, assinala\, este ano a sua décima edição\, afirmando-se\, atualmente\, como um evento de referência no panorama musical nacional e internacional\, assente em dois pilares essenciais: formação e excelência artística. \nA iniciativa conta com o Alto Patrocínio de Sua Excelência o Presidente da República e tem o apoio institucional de outras entidades de relevo nacional\, como o Turismo do Centro\, a Cinemateca\, a RTP 2 e a Antena 2. De referir ainda que a iniciativa é financiada pela Direção Geral das Artes\, ao abrigo do Apoio à Programação da RTCP. \nCom mais de 80 participantes\, oriundos de 23 países\, o X Encontro Internacional de Piano de Sardoal\, apresenta um programa diversificado e de elevada qualidade\, combinando concertos sinfónicos\, recitais e música de câmara\, formação especializada\, X Concurso Internacional de Piano – Prémio Sardoal Jovem Talento\, Caminhada-concerto “Música pelo Património” e Cine-concerto\, que este ano faz uma homenagem a Carlos Paredes. \nÀ semelhança de anos anteriores\, a iniciativa\, que nas edições anteriores se pautou por um elevado sucesso\, volta a trazer ao Sardoal algumas das maiores promessas do piano a nível mundial\, assim como alguns dos mestres mais conceituados internacionais. \nO Encontro Internacional de Piano de Sardoal é uma coprodução deste Município e da Academia Internacional de Música Aquiles Delle Vigne\, contando com a participação da Filarmónica União Sardoalense e a parceria do Espalhafitas – Cineclube de Abrantes.
URL:https://henriqueconstancia.com/en/event/concerto-orquestra-filarmonia-das-beiras/
LOCATION:Centro Cultural Gil Vicente\, Av. D. João III\, Sardoal\, 2230-135\, Portugal
ORGANIZER;CN="Academia Internacional de M%C3%BAsica Aquiles delle Vigne":MAILTO:infoacademiadellevigne@gmail.com
END:VEVENT
BEGIN:VEVENT
DTSTART;TZID=UTC:20250712T213000
DTEND;TZID=UTC:20250712T223000
DTSTAMP:20260423T233810
CREATED:20250611T185848Z
LAST-MODIFIED:20250706T003608Z
UID:705-1752355800-1752359400@henriqueconstancia.com
SUMMARY:Estágio de Orquestra do Conservatório Regional de Ponta Delgada
DESCRIPTION:Estágio de Orquestra do Conservatório Regional de Ponta Delgada\nConcerto de encerramento\nA música tem o poder de nos conduzir do caos à celebração — é esse o ponto de partida do Estágio de Orquestra Sinfónica do Conservatório Regional de Ponta Delgada. \nSobem ao palco alunos e antigos alunos do Conservatório\, bem como jovens músicos de outras escolas de música do país\, num encontro que celebra o talento\, a dedicação e o espírito de colaboração. Após uma intensa semana de ensaios\, este momento culmina numa viagem sonora que atravessa 3 épocas e 3 regiões distintas da Europa. \nDa Austria soa “A Representação do Caos”\, o preludio da oratória A Criação\, composta por Joseph Haydn em 1797  e que nos traz uma descrição sonora do início do universo. Da Noruega chega-nos “Harding-øl”\, do compositor Geirr Tveitt\, uma dança escandinava exuberante e hipnótica\, que evoca o crescendo irresistível de um Bolero nórdico. A 8ª Sinfonia de Antonín Dvořák transporta-nos até às paisagens da Chéquia\, numa sentida homenagem à natureza\, à vida rural e às melodias folclóricas da sua terra natal. Uma noite em que a música une gerações\, territórios e culturas e nos convida a viajar com ela. \nmaestro Henrique Constância
URL:https://henriqueconstancia.com/en/event/orquestra-sinfonica-do-conservatorio-regional-de-ponta-delgada/
LOCATION:Teatro Micaelense\, Rua de São João\, Ponta Delgada\, Açores\, 9500-106\, Portugal
END:VEVENT
BEGIN:VEVENT
DTSTART;TZID=UTC:20250717T180000
DTEND;TZID=UTC:20250717T190000
DTSTAMP:20260423T233810
CREATED:20250619T193239Z
LAST-MODIFIED:20250720T145654Z
UID:736-1752775200-1752778800@henriqueconstancia.com
SUMMARY:BOOM Festival - Talk
DESCRIPTION:BOOM Festival\nWorkshop & Talk – Liminal Stage\nHenrique Constância
URL:https://henriqueconstancia.com/en/event/boom-festival/
LOCATION:Herdade da Granja\, Caminho Municipal 1061\, Idanha-a-Nova\, 7425-999\, Portugal
END:VEVENT
BEGIN:VEVENT
DTSTART;TZID=UTC:20250801T213000
DTEND;TZID=UTC:20250801T223000
DTSTAMP:20260423T233810
CREATED:20250611T200635Z
LAST-MODIFIED:20250726T104005Z
UID:712-1754083800-1754087400@henriqueconstancia.com
SUMMARY:Orquestra de Cordas do Festival Internacional de Música de Bendada
DESCRIPTION:Orquestra de Cordas do Festival Internacional de Música de Bendada\nConcerto com os finalistas do Festival de Música de Bendada 2025 \nHenrique Constância | Maestro
URL:https://henriqueconstancia.com/en/event/orquestra-de-cordas-do-festival-internacional-de-musica-de-bendada/
LOCATION:Castelo do Sabugal\, Sabugal\, Portugal
END:VEVENT
BEGIN:VEVENT
DTSTART;TZID=UTC:20250908T143000
DTEND;TZID=UTC:20250908T153000
DTSTAMP:20260423T233810
CREATED:20250815T225607Z
LAST-MODIFIED:20250817T222010Z
UID:897-1757341800-1757345400@henriqueconstancia.com
SUMMARY:Festival Cidnay - Oficina Musical
DESCRIPTION:Oficina Musical para Crianças\nHenrique Constância | Maestro \n \n 
URL:https://henriqueconstancia.com/en/event/cidany-festival/
LOCATION:Quinta de Fora\, Largo Abade de Pedrosa\, nº. 1\, Santo Tirso\, 4780-368 Santo Tirso\, Portugal
END:VEVENT
BEGIN:VEVENT
DTSTART;TZID=UTC:20250908T163000
DTEND;TZID=UTC:20250908T173000
DTSTAMP:20260423T233810
CREATED:20250815T232752Z
LAST-MODIFIED:20250817T221938Z
UID:904-1757349000-1757352600@henriqueconstancia.com
SUMMARY:Festival Cidnay - Oficina Musical
DESCRIPTION:Oficina Musical para Séniores\nHenrique Constância | Maestro
URL:https://henriqueconstancia.com/en/event/cidnay-festival-4/
LOCATION:Auditório Eng. Eurico de Melo\, Rua da Misericórdia\, 171\, Santo Tirso\, 4780-371 Santo Tirso\, Portugal
END:VEVENT
BEGIN:VEVENT
DTSTART;TZID=UTC:20250914T110000
DTEND;TZID=UTC:20250914T120000
DTSTAMP:20260423T233810
CREATED:20250815T222433Z
LAST-MODIFIED:20250817T223033Z
UID:876-1757847600-1757851200@henriqueconstancia.com
SUMMARY:Festival Cidnay - Sinfonia dos Brinquedos
DESCRIPTION:Sinfonia dos Brinquedos\nOrquestra ARTAVINHOS \nApresentação | Gonçalo Tavares \nDireção Musical | Henrique Constância \n \nLEOPOLD MOZART (1719-1787) \nSinfonia dos Brinquedos (ca. 1760) \nI. Allegro \nII. Andante \nIII. Menuetto \nIV. Allegro (Finale) \n  \nFREDERICK DELIUS (1862-1934) \nAo Ouvir o Primeiro Cuco na Primavera (1912) \nBÉLA BARTÓK (1881-1945) \nPara Crianças (1908-1911) \n(arr. para orquestra LEÓ WEINER) \n  \nCHARLES GOUNOD (1818-1893) \nMarcha Fúnebre para uma Marioneta (1872) \nA Orquestra Artavinhos convida o público a embarcar numa viagem pelo universo infantil\, onde a música ganha vida através do talento e entusiasmo dos seus jovens intérpretes. Mais do que um simples espetáculo\, este concerto é uma oportunidade singular para explorar o fascinante mundo da música clássica de forma envolvente e cativante. Sob a direção do maestro Henrique Constância e apresentação de Gonçalo Tavares\, o público é conduzido numa aventura repleta de diversão e descobertas sobre a história e o funcionamento dos instrumentos que compõem a orquestra. A viagem tem início com a Sinfonia dos Brinquedos\, composição atribuída a Leopold Mozart – pai de Wolfgang Amadeus Mozart -\, onde instrumentos “sérios” se entrelaçam com apitos\, pássaros de corda\, tamborins e outros brinquedos musicais. Este concerto é uma verdadeira celebração sonora\, em que a música clássica se une à brincadeira num só palco. Um momento perfeito para ouvir\, sorrir\, aprender e sentir como a música pode ser uma linguagem divertida e apaixonante para todas as idades. \nUm convite especial para despertar a curiosidade e a imaginação em família. \n  \n 
URL:https://henriqueconstancia.com/en/event/cidnay-festival/
LOCATION:Teatro Narciso Ferreira\, Av. Narciso Ferreira\, Famalicão\, 4765-202 Riba d’Ave\, Portugal
END:VEVENT
BEGIN:VEVENT
DTSTART;TZID=UTC:20250915T110000
DTEND;TZID=UTC:20250915T120000
DTSTAMP:20260423T233810
CREATED:20250815T223600Z
LAST-MODIFIED:20250817T222907Z
UID:885-1757934000-1757937600@henriqueconstancia.com
SUMMARY:Festival Cidnay - Sinfonia dos Brinquedos
DESCRIPTION:Sinfonia dos Brinquedos\nOrquestra ARTAVINHOS \nApresentação | Gonçalo Tavares \nDireção Musical | Henrique Constância \n  \nLEOPOLD MOZART (1719-1787) \nSinfonia dos Brinquedos (ca. 1760) \nI. Allegro \nII. Andante \nIII. Menuetto \nIV. Allegro (Finale) \n  \nFREDERICK DELIUS (1862-1934) \nAo Ouvir o Primeiro Cuco na Primavera (1912) \nBÉLA BARTÓK (1881-1945) \nPara Crianças (1908-1911) \n(arr. para orquestra LEÓ WEINER) \n  \nCHARLES GOUNOD (1818-1893) \nMarcha Fúnebre para uma Marioneta (1872) \n  \nA Orquestra Artavinhos convida o público a embarcar numa viagem pelo universo infantil\, onde a música ganha vida através do talento e entusiasmo dos seus jovens intérpretes. Mais do que um simples espetáculo\, este concerto é uma oportunidade singular para explorar o fascinante mundo da música clássica de forma envolvente e cativante. Sob a direção do maestro Henrique Constância e apresentação de Gonçalo Tavares\, o público é conduzido numa aventura repleta de diversão e descobertas sobre a história e o funcionamento dos instrumentos que compõem a orquestra. A viagem tem início com a Sinfonia dos Brinquedos\, composição atribuída a Leopold Mozart – pai de Wolfgang Amadeus Mozart -\, onde instrumentos “sérios” se entrelaçam com apitos\, pássaros de corda\, tamborins e outros brinquedos musicais. Este concerto é uma verdadeira celebração sonora\, em que a música clássica se une à brincadeira num só palco. Um momento perfeito para ouvir\, sorrir\, aprender e sentir como a música pode ser uma linguagem divertida e apaixonante para todas as idades. \nUm convite especial para despertar a curiosidade e a imaginação em família. \n 
URL:https://henriqueconstancia.com/en/event/cidnay-festival-2/
LOCATION:Aditório da Escola Básica de Ribeirão\, Av. Rio Veirão\, Famalicâo\, 4760-711 Ribeirão\, Portugal
END:VEVENT
END:VCALENDAR